BEGIN:VCALENDAR
VERSION:2.0
PRODID:-//Library Market//iCal Export//EN
BEGIN:VEVENT
SUMMARY:Drop-In: Game Day
UID:17208
DTSTAMP:20260419T193700Z
DTSTART:20260616T190000Z
DTEND:20260616T220000Z
LOCATION:2310 Sealy Avenue, Galveston, TX 77550, United States
ROOM: Children&#039;s Dept
DESCRIPTION:Drop in to the Children&#039;s Department any time between 2 -
  5 PM to play your favorite board games with your family.
URL:https://rosenberglib.librarycalendar.com/event/drop-game-day-17208
END:VEVENT
END:VCALENDAR
